BEGIN:VCALENDAR
VERSION:2.0
PRODID:-//SPA de Lyon et du Sud-Est - ECPv5.16.4//NONSGML v1.0//EN
CALSCALE:GREGORIAN
METHOD:PUBLISH
X-WR-CALNAME:SPA de Lyon et du Sud-Est
X-ORIGINAL-URL:https://www.spa-lyon.org
X-WR-CALDESC:évènements pour SPA de Lyon et du Sud-Est
BEGIN:VTIMEZONE
TZID:Europe/Paris
BEGIN:DAYLIGHT
TZOFFSETFROM:+0100
TZOFFSETTO:+0200
TZNAME:CEST
DTSTART:20220327T010000
END:DAYLIGHT
BEGIN:STANDARD
TZOFFSETFROM:+0200
TZOFFSETTO:+0100
TZNAME:CET
DTSTART:20221030T010000
END:STANDARD
END:VTIMEZONE
BEGIN:VEVENT
DTSTART;TZID=Europe/Paris:20220608T140000
DTEND;TZID=Europe/Paris:20220608T163000
DTSTAMP:20260419T144549
CREATED:20220314T192934Z
LAST-MODIFIED:20220405T085216Z
UID:98916-1654696800-1654705800@www.spa-lyon.org
SUMMARY:Atelier Petit Animalier - Reporté au 8 juin (complet)
DESCRIPTION:L’atelier « Petit Animalier »\, c’est le rendez-vous des enfants de 6 à 12 ans au refuge de Brignais\, pour s’éveiller sur le monde animal\, apprendre le respect animal et la protection de la biodiversité qui nous entoure. En 2022\, l’animation qui était prévue mercredi 6 avril est reportée au 8 juin. Merci à nos partenaires ECOLOUPOULE\, la LPO Rhône et Dog’n’Horse Services (toilettage) pour leur présence.  \nA savoir : Victime de son succès\, l’atelier Petit Animalier est complet. Nous ne prenons plus de nouveaux participants.  \n  \n 
URL:https://www.spa-lyon.org/event/atelier-petit-animalier-6-avril-2022/
LOCATION:Refuge de Brignais\, Parc d’Activités des Vallières\, 12 rue de l’Industrie\, Brignais\, 69530\, France
CATEGORIES:Enfants
ATTACH;FMTTYPE=image/jpeg:https://www.spa-lyon.org/wp-content/uploads/2021/03/vignette-web-atelier-petit-animalier.jpg
END:VEVENT
END:VCALENDAR