BEGIN:VCALENDAR
VERSION:2.0
PRODID:-//SPA de Lyon et du Sud-Est - ECPv5.16.4//NONSGML v1.0//EN
CALSCALE:GREGORIAN
METHOD:PUBLISH
X-WR-CALNAME:SPA de Lyon et du Sud-Est
X-ORIGINAL-URL:https://www.spa-lyon.org
X-WR-CALDESC:évènements pour SPA de Lyon et du Sud-Est
BEGIN:VTIMEZONE
TZID:Europe/Paris
BEGIN:DAYLIGHT
TZOFFSETFROM:+0100
TZOFFSETTO:+0200
TZNAME:CEST
DTSTART:20250330T010000
END:DAYLIGHT
BEGIN:STANDARD
TZOFFSETFROM:+0200
TZOFFSETTO:+0100
TZNAME:CET
DTSTART:20251026T010000
END:STANDARD
END:VTIMEZONE
BEGIN:VEVENT
DTSTART;TZID=Europe/Paris:20250920T100000
DTEND;TZID=Europe/Paris:20250920T170000
DTSTAMP:20260422T015549
CREATED:20250819T081329Z
LAST-MODIFIED:20250819T081329Z
UID:167739-1758362400-1758387600@www.spa-lyon.org
SUMMARY:Stand SPA de Lyon : Animaux en Fête - Samedi 20 septembre 2025 - Bron
DESCRIPTION:Samedi 20 septembre\, de 10h à 17h\, à la Plaine du Fort de Bron. \nLa SPA de Lyon sera présente à la 5ème journée « Animaux en fête » organisée par la Ville de Bron. Un bel événement mettant à l’honneur les animaux\, autour de diverses professions\, associations\, prestations de service\, et bien sûr d’animations ludiques. Cette année\, un concours du plus beau chien de la ville (par catégorie) et des conférences du CNPA et autres organismes\, auront lieu tout au long de la journée.\nEnvie d’en savoir plus sur les adoptions\, notre actualité\, et les moyens de soutenir notre association indépendante ? C’est l’occasion de nous rencontrer pour échanger ensemble. \n Programme : prochainement sur le site de la ville de Bron. \n  \nLa S.P.A. de Lyon remercie l’équipe municipale de la Ville de Bron pour cette initiative en faveur de la cause animale.
URL:https://www.spa-lyon.org/event/stand-spa-de-lyon-animaux-en-fete-samedi-20-septembre-2025-bron/
LOCATION:Fort de Bron\, Prairie du Fort - Chemin Vieux\, Bron\, 69500\, France
CATEGORIES:Salons
ATTACH;FMTTYPE=image/jpeg:https://www.spa-lyon.org/wp-content/uploads/2025/08/animaux-en-fete-2025-sq.jpg
END:VEVENT
END:VCALENDAR