BEGIN:VCALENDAR
VERSION:2.0
PRODID:-//SPA de Lyon et du Sud-Est - ECPv5.16.4//NONSGML v1.0//EN
CALSCALE:GREGORIAN
METHOD:PUBLISH
X-WR-CALNAME:SPA de Lyon et du Sud-Est
X-ORIGINAL-URL:https://www.spa-lyon.org
X-WR-CALDESC:évènements pour SPA de Lyon et du Sud-Est
BEGIN:VTIMEZONE
TZID:Europe/Paris
BEGIN:DAYLIGHT
TZOFFSETFROM:+0100
TZOFFSETTO:+0200
TZNAME:CEST
DTSTART:20250330T010000
END:DAYLIGHT
BEGIN:STANDARD
TZOFFSETFROM:+0200
TZOFFSETTO:+0100
TZNAME:CET
DTSTART:20251026T010000
END:STANDARD
END:VTIMEZONE
BEGIN:VEVENT
DTSTART;TZID=Europe/Paris:20251217T140000
DTEND;TZID=Europe/Paris:20251217T160000
DTSTAMP:20260425T224412
CREATED:20251125T143515Z
LAST-MODIFIED:20251125T144211Z
UID:170986-1765980000-1765987200@www.spa-lyon.org
SUMMARY:Noël des Animaux au refuge de Brignais - Mercredi 17 décembre 2025
DESCRIPTION:La SPA de Lyon lance sa 4ème édition du « Noël des Animaux »\, une hotte de la solidarité pour les animaux abandonnés\, errants ou maltraités. \n\nComment contribuer ? Déposez votre don (jouet neuf\, friandise pour chien ou chat\, plaid ou couverture moelleuse…) à l’accueil du refuge de Brignais jusqu’au 16 décembre\, ou à la boutique de Lyon 2 (située 25 quai Jean Moulin) jusqu’au 10 décembre.\n\n\nMercredi 17 décembre\, participez à la grande distribution\n\nLes personnes qui souhaitent prendre part à la distribution des dons aux pensionnaires\, mercredi 17 décembre\, sont priées de prendre connaissance des modalités ci-dessous. \n– Modalités au refuge de Brignais (Rhône)* :\nDéparts à : 14h / 15h / 16h\nAdresse : 12 rue de l’Industrie 69530 Brignais\nPas d’inscription nécessaire \n*Pour des raisons de sécurité et pour ne pas perturber les animaux\, les groupes seront limités à 10 participants. Les mineurs devront obligatoirement être accompagnés d’un adulte. Chaque groupe sera encadré par l’un de nos agents animaliers et affecté à un secteur du refuge. \n\n\n\n\n\n\n\n\n\nN’hésitez pas\, lors de votre venue\, à porter un accessoire (chapeau/bonnet de Noël\, pull de Noël…) pour rendre le moment plus festif. \nRetour en images sur l’édition 2024 au sein des deux refuges.
URL:https://www.spa-lyon.org/event/noel-des-animaux-au-refuge-de-brignais-mercredi-17-decembre-2025/
LOCATION:Refuge de Brignais\, Parc d’Activités des Vallières\, 12 rue de l’Industrie\, Brignais\, 69530\, France
CATEGORIES:Temps fort
ATTACH;FMTTYPE=image/jpeg:https://www.spa-lyon.org/wp-content/uploads/2025/11/bandeau-fb-noel-2025.jpg
END:VEVENT
END:VCALENDAR