BEGIN:VCALENDAR
VERSION:2.0
PRODID:-//SPA de Lyon et du Sud-Est - ECPv5.16.4//NONSGML v1.0//EN
CALSCALE:GREGORIAN
METHOD:PUBLISH
X-WR-CALNAME:SPA de Lyon et du Sud-Est
X-ORIGINAL-URL:https://www.spa-lyon.org
X-WR-CALDESC:évènements pour SPA de Lyon et du Sud-Est
BEGIN:VTIMEZONE
TZID:Europe/Paris
BEGIN:DAYLIGHT
TZOFFSETFROM:+0100
TZOFFSETTO:+0200
TZNAME:CEST
DTSTART:20250330T010000
END:DAYLIGHT
BEGIN:STANDARD
TZOFFSETFROM:+0200
TZOFFSETTO:+0100
TZNAME:CET
DTSTART:20251026T010000
END:STANDARD
END:VTIMEZONE
BEGIN:VEVENT
DTSTART;TZID=Europe/Paris:20250208T133000
DTEND;TZID=Europe/Paris:20250208T180000
DTSTAMP:20260424T130415
CREATED:20250102T154536Z
LAST-MODIFIED:20250102T160420Z
UID:159267-1739021400-1739037600@www.spa-lyon.org
SUMMARY:Loto - samedi 8 février 2025 - Vénissieux
DESCRIPTION:JOUEZ POUR LES ANIMAUX ABANDONNÉS !\n\n\n\nGrand loto de la S.P.A. de Lyon\, samedi 8 février 2025\, salle Joliot-Curie à Vénissieux. Les bénéfices seront intégralement consacrés aux animaux en détresse.\n\n\n\n\nINFOS PRATIQUES :\nSalle Joliot-Curie : 68 boulevard Joliot-Curie 69200 Vénissieux.\nOuverture des portes dès 13h30.\nTarif des cartons : 1 carton = 5 € | 5 cartons = 20 €.\nBuvette (boissons et snack sucré) : ventes au profit des animaux abandonnés.\nRèglements acceptés : CB\, chèques\, espèces.\n\n\n\n\nPREVENTE DE CARTONS : \n\n\nVous pouvez vous procurer d’avance vos cartons et ainsi choisir vos numéros fétiches à partir du 20 janvier et au plus tard le 6 février à 12h (dans la limite des stocks disponibles) : à la boutique de la SPA de Lyon\, 25 quai Jean Moulin 69002 Lyon (Cordeliers).\nAttention : nous vous informons que l’achat de cartons en prévente ne vous garantira pas votre place dans la salle. Nous vous conseillons de vous présenter à l’ouverture des portes.\n\n\nVENTES DE CARTONS LE JOUR DU LOTO :\n\nVous pourrez également vous procurer des cartons sur place (salle Joliot-Curie à Vénissieux) le 8 février. Nous vous recommandons de vous présenter dès 13h30\, afin d’éviter la forte affluence et de vous assurer une place dans la salle.\n\n\nVenez avec vos proches partager un après-midi convivial\, pour la cause animale !\n\n  \n 
URL:https://www.spa-lyon.org/event/loto-samedi-8-fevrier-2025-venissieux/
LOCATION:Salle Joliot-Curie – Vénissieux\, 68 boulevard Joliot-Curie\, Vénissieux\, 69200
CATEGORIES:Lotos
ATTACH;FMTTYPE=image/png:https://www.spa-lyon.org/wp-content/uploads/2025/01/evenement-site-loto-2025.png
END:VEVENT
END:VCALENDAR