BEGIN:VCALENDAR
VERSION:2.0
PRODID:-//SPA de Lyon et du Sud-Est - ECPv5.16.4//NONSGML v1.0//EN
CALSCALE:GREGORIAN
METHOD:PUBLISH
X-WR-CALNAME:SPA de Lyon et du Sud-Est
X-ORIGINAL-URL:https://www.spa-lyon.org
X-WR-CALDESC:évènements pour SPA de Lyon et du Sud-Est
BEGIN:VTIMEZONE
TZID:Europe/Paris
BEGIN:DAYLIGHT
TZOFFSETFROM:+0100
TZOFFSETTO:+0200
TZNAME:CEST
DTSTART:20250330T010000
END:DAYLIGHT
BEGIN:STANDARD
TZOFFSETFROM:+0200
TZOFFSETTO:+0100
TZNAME:CET
DTSTART:20251026T010000
END:STANDARD
END:VTIMEZONE
BEGIN:VEVENT
DTSTART;TZID=Europe/Paris:20251004T100000
DTEND;TZID=Europe/Paris:20251004T173000
DTSTAMP:20260421T225500
CREATED:20250821T141736Z
LAST-MODIFIED:20250821T141736Z
UID:167821-1759572000-1759599000@www.spa-lyon.org
SUMMARY:Fête des Animaux - Samedi 4 octobre 2025 - Refuge de Dompierre-sur-Veyle
DESCRIPTION:Notez la date dans vos agendas ! Les prochaines portes ouvertes des refuges de la SPA de Lyon (Brignais dans le Rhône et Dompierre-sur-Veyle dans l’Ain) auront lieu le samedi 4 et dimanche 5 octobre\, de 10h à 17h30 et de 14h à 17h30 le dimanche. \nVenez rencontrer nos pensionnaires à l’adoption (chiens\, chats\, NAC*) et profiter des animations qui seront organisées dans nos deux refuges.\n \nProgramme du samedi 4 octobre\, au refuge Dompierre-sur-Veyle :\n\nDes animations pour toute la famille : détail des animations à venir prochainement.\nUne grande tombola avec la possibilité de gagner 3 lots différents !\nBuvette et snack sur place.\n\nDurant la journée\, il sera aussi possible pour ceux qui le souhaitent de soutenir les refuges. Comment ? En faisant un don\, en parrainant un animal à l’adoption ou en offrant à l’un des pensionnaires du refuge de Brignais un toilettage (séance de bien-être afin de lui donner plus de chances de retrouver une famille). Renseignements le jour J auprès de nos équipes.\n \nEntrée libre\, animaux bienvenus.
URL:https://www.spa-lyon.org/event/fete-des-animaux-samedi-4-octobre-2025-refuge-de-dompierre-sur-veyle/
CATEGORIES:Journées Adoption
ATTACH;FMTTYPE=image/jpeg:https://www.spa-lyon.org/wp-content/uploads/2025/08/agenda-site-fetedesanimaux2025.jpg
END:VEVENT
END:VCALENDAR