BEGIN:VCALENDAR
VERSION:2.0
PRODID:-//SPA de Lyon et du Sud-Est - ECPv5.16.4//NONSGML v1.0//EN
CALSCALE:GREGORIAN
METHOD:PUBLISH
X-WR-CALNAME:SPA de Lyon et du Sud-Est
X-ORIGINAL-URL:https://www.spa-lyon.org
X-WR-CALDESC:évènements pour SPA de Lyon et du Sud-Est
BEGIN:VTIMEZONE
TZID:Europe/Paris
BEGIN:DAYLIGHT
TZOFFSETFROM:+0100
TZOFFSETTO:+0200
TZNAME:CEST
DTSTART:20260329T010000
END:DAYLIGHT
BEGIN:STANDARD
TZOFFSETFROM:+0200
TZOFFSETTO:+0100
TZNAME:CET
DTSTART:20261025T010000
END:STANDARD
END:VTIMEZONE
BEGIN:VEVENT
DTSTART;TZID=Europe/Paris:20260617T140000
DTEND;TZID=Europe/Paris:20260617T163000
DTSTAMP:20260423T201702
CREATED:20260423T123149Z
LAST-MODIFIED:20260423T125417Z
UID:176230-1781704800-1781713800@www.spa-lyon.org
SUMMARY:Atelier découverte - Mercredi 17 juin 2026 - refuge de Brignais
DESCRIPTION:Notre refuge de Brignais ouvre ses portes aux enfants de 6 à 12 ans pour des ateliers participatifs et ludiques. Objectifs : découvertes\, connaissances et sensibilisation sur les espèces domestiques et sauvages qui nous entourent. \nAvec la participation de la Ligue de Protection des Oiseaux du Rhône\, de l’éducatrice canine Capucine Paturel (Lien Canin : www.liencanin.com) et de l’association Ecoloupoule. \n  \n🔴 Inscription obligatoire\, places limitées 🔴 \nÉcrivez-nous via le formulaire de contact : https://www.spa-lyon.org/contact/ \nSélectionnez « communication » dans le menu déroulant. A réception de votre message\, nous vous transmettrons les infos pratiques et le formulaire d’inscription à remplir et à nous retourner par mail ou courrier. \nAttention : nous ne prenons pas d’inscription au refuge\, ni par téléphone. \n  \nMercredi 17 juin de 14 h à 16 h 30 au refuge de Brignais \nParticipation de 5€ par enfant (à régler le jour de l’animation) \n  \nA bientôt pour un bel après-midi à la SPA de Lyon !
URL:https://www.spa-lyon.org/event/atelier-decouverte-mercredi-17-juin-2026-refuge-de-brignais/
LOCATION:Refuge de Brignais\, Parc d’Activités des Vallières\, 12 rue de l’Industrie\, Brignais\, 69530\, France
CATEGORIES:Enfants
ATTACH;FMTTYPE=image/png:https://www.spa-lyon.org/wp-content/uploads/2024/05/capture-decran-1.png
END:VEVENT
END:VCALENDAR